BEGIN:VCALENDAR
VERSION:2.0
PRODID:-//Seminarzentrum Schorndorf - ECPv6.0.4//NONSGML v1.0//EN
CALSCALE:GREGORIAN
METHOD:PUBLISH
X-ORIGINAL-URL:https://seminarzentrum-schorndorf.de
X-WR-CALDESC:Veranstaltungen für Seminarzentrum Schorndorf
REFRESH-INTERVAL;VALUE=DURATION:PT1H
X-Robots-Tag:noindex
X-PUBLISHED-TTL:PT1H
BEGIN:VTIMEZONE
TZID:Europe/Berlin
BEGIN:DAYLIGHT
TZOFFSETFROM:+0100
TZOFFSETTO:+0200
TZNAME:CEST
DTSTART:20240331T010000
END:DAYLIGHT
BEGIN:STANDARD
TZOFFSETFROM:+0200
TZOFFSETTO:+0100
TZNAME:CET
DTSTART:20241027T010000
END:STANDARD
END:VTIMEZONE
BEGIN:VEVENT
DTSTART;VALUE=DATE:20240720
DTEND;VALUE=DATE:20240722
DTSTAMP:20260419T181133
CREATED:20240315T103044Z
LAST-MODIFIED:20240315T103044Z
UID:2018-1721433600-1721606399@seminarzentrum-schorndorf.de
SUMMARY:DORN & BREUSS Auffrischungs- und Vertiefungs-Seminar für frühere Seminar-Teilnehmer
DESCRIPTION:Organische Störungen\, Rückenschmerzen und nicht zuletzt Bewegungseinschränkungen können durch Fehlstellungen von Wirbeln und Gelenken hervorgerufen werden. Häufig bleiben diese unbehandelt\, obwohl es einfache Behandlungen nach DORN und BREUSS gibt.  \nErlernen Sie in diesem Seminar eine leicht anwendbare\, gefühlvolle und einfache Behandlung zur Hilfe und Selbsthilfe vieler Rücken– und Gelenk–Probleme.\nDabei ist diese Behandlung ohne ungewollte Nebenwirkungen oder Risiken.\nSie brauchen nur gesunde Hände und Offenheit für das Neue: DORN. \nDies ist ein praktisches Seminar\, bei dem jeder Teilnehmer unter fachkundiger Seminarleitung selbst behandelt und behandelt wird.\nAuch die Selbsthilfe–Übungen nach DORN werden geübt. \nAußerdem erlernen Sie die BREUSS–Massage\, die sehr hilfreich bei Bandscheiben–Problemen und zur Vor- oder Nachbehandlung mit DORN ist. \nAn diesem Seminar können Therapeuten\, sowie interessierte Laien teilnehmen. \n Dozent: HP Helmuth Koch\,  DORN-Ausbilder seit 1990\, DORN-Buchautor (auf den Namen klicken und mehr über Helmuth Koch erfahren) \nKursbeitrag : 220\,00 € (inkl. Seminarunterlagen + Kurs-Zertifikat) \nBitte mitbringen: 1 Badetuch\, 1 Handtuch\, lockere Kleidung\, Hausschuhe \nTermine: Samstag + Sonntag\, 20. + 21.07.2024 von 10 bis 18 Uhr \nAnmeldung bitte bei: Gerti Ostertag\nHandy: 0178-5427 544\nE-Mail: info@seminarzentrum-schorndorf.de
URL:https://seminarzentrum-schorndorf.de/termin/dorn-breuss-auffrischungs-und-vertiefungs-seminar-fuer-fruehere-seminar-teilnehmer/
LOCATION:Seminarzentrum Schorndorf\, Damaschkestraße 3\, Schorndorf\, Baden-Württemberg\, 73614\, Deutschland
END:VEVENT
END:VCALENDAR